BEGIN:VCALENDAR
VERSION:2.0
PRODID:-//Jesus Revelation Ministries - ECPv6.11.2//NONSGML v1.0//EN
CALSCALE:GREGORIAN
METHOD:PUBLISH
X-ORIGINAL-URL:https://jrm.org.zw
X-WR-CALDESC:Events for Jesus Revelation Ministries
REFRESH-INTERVAL;VALUE=DURATION:PT1H
X-Robots-Tag:noindex
X-PUBLISHED-TTL:PT1H
BEGIN:VTIMEZONE
TZID:Africa/Harare
BEGIN:STANDARD
TZOFFSETFROM:+0200
TZOFFSETTO:+0200
TZNAME:CAT
DTSTART:20240101T000000
END:STANDARD
END:VTIMEZONE
BEGIN:VEVENT
DTSTART;VALUE=DATE:20250821
DTEND;VALUE=DATE:20250826
DTSTAMP:20260420T205537
CREATED:20211020T062734Z
LAST-MODIFIED:20250525T190739Z
UID:2877-1755734400-1756166399@jrm.org.zw
SUMMARY:Revelation Gathering 2025
DESCRIPTION:
URL:https://jrm.org.zw/event/rg-2025
LOCATION:Gauteng Province
CATEGORIES:Our Events,Upcoming Events
ATTACH;FMTTYPE=image/png:https://jrm.org.zw/wp-content/uploads/2025/05/RG-2025-1.png
END:VEVENT
BEGIN:VEVENT
DTSTART;VALUE=DATE:20250131
DTEND;VALUE=DATE:20250202
DTSTAMP:20260420T205537
CREATED:20240625T204701Z
LAST-MODIFIED:20250128T205911Z
UID:3097-1738281600-1738454399@jrm.org.zw
SUMMARY:All Night Service
DESCRIPTION:
URL:https://jrm.org.zw/event/all-night-service
LOCATION:Youtube
CATEGORIES:Our Events,Upcoming Events
ATTACH;FMTTYPE=image/png:https://jrm.org.zw/wp-content/uploads/2025/01/ALL-NIGHT-SERVICE-2025.png
END:VEVENT
BEGIN:VEVENT
DTSTART;VALUE=DATE:20240927
DTEND;VALUE=DATE:20240929
DTSTAMP:20260420T205537
CREATED:20240618T200321Z
LAST-MODIFIED:20240618T200954Z
UID:3085-1727395200-1727567999@jrm.org.zw
SUMMARY:Ladies Fellowship
DESCRIPTION:
URL:https://jrm.org.zw/event/ladies-fellowship
CATEGORIES:Our Events
ATTACH;FMTTYPE=image/png:https://jrm.org.zw/wp-content/uploads/2024/06/Ladies-Fellowship-2024.png
END:VEVENT
BEGIN:VEVENT
DTSTART;VALUE=DATE:20240829
DTEND;VALUE=DATE:20240902
DTSTAMP:20260420T205537
CREATED:20240618T200452Z
LAST-MODIFIED:20240618T200903Z
UID:3088-1724889600-1725235199@jrm.org.zw
SUMMARY:Prayer Retreat
DESCRIPTION:
URL:https://jrm.org.zw/event/prayer-retreat
CATEGORIES:Our Events,Upcoming Events
ATTACH;FMTTYPE=image/png:https://jrm.org.zw/wp-content/uploads/2024/06/PRAYER-RETREAT-2024-THUMBNAIL.png
END:VEVENT
BEGIN:VEVENT
DTSTART;VALUE=DATE:20240731
DTEND;VALUE=DATE:20240804
DTSTAMP:20260420T205537
CREATED:20210408T121456Z
LAST-MODIFIED:20240618T195947Z
UID:2215-1722384000-1722729599@jrm.org.zw
SUMMARY:Global Youth Conference
DESCRIPTION:
URL:https://jrm.org.zw/event/global-youth-conference
CATEGORIES:Our Events
ATTACH;FMTTYPE=image/png:https://jrm.org.zw/wp-content/uploads/2017/01/Global-Youth-Conference.png
END:VEVENT
BEGIN:VEVENT
DTSTART;VALUE=DATE:20240713
DTEND;VALUE=DATE:20240714
DTSTAMP:20260420T205537
CREATED:20170127T065803Z
LAST-MODIFIED:20240618T195750Z
UID:304-1720828800-1720915199@jrm.org.zw
SUMMARY:Couples Fellowship
DESCRIPTION:
URL:https://jrm.org.zw/event/couples-fellowship
CATEGORIES:Our Events
ATTACH;FMTTYPE=image/png:https://jrm.org.zw/wp-content/uploads/2017/01/Couples-Fellowship-2024.png
END:VEVENT
END:VCALENDAR